BEGIN:VCALENDAR
VERSION:2.0
PRODID:-//pretix//pretix.eu//
BEGIN:VEVENT
UID:pretix-mhds-europawahl-0@anmeldung.hausderschueler.de
DTSTART;VALUE=DATE:20240604
DTEND;VALUE=DATE:20240605
DESCRIPTION:Tickets: https://anmeldung.hausderschueler.de/\nVeranstalter: M
 ünchner Haus der Schüler*innen e.V.
DTSTAMP:20260419T130900Z
LOCATION:Münchner Haus der Schüler*innen\, Brienner Straße 59\, 80333 M
 ünchen
SUMMARY:Kommentierte Lesung der Wahlprogramme zur EU-Wahl
END:VEVENT
END:VCALENDAR
